BEGIN:VCALENDAR
VERSION:2.0
PRODID:-//Kingscliff Beach Hotel - ECPv4.6//NONSGML v1.0//EN
CALSCALE:GREGORIAN
METHOD:PUBLISH
X-WR-CALNAME:Kingscliff Beach Hotel
X-ORIGINAL-URL:http://kingscliffbeachhotel.com.au
X-WR-CALDESC:Events for Kingscliff Beach Hotel
BEGIN:VEVENT
DTSTART;TZID=UTC+10:20200313T190000
DTEND;TZID=UTC+10:20200313T220000
DTSTAMP:20200301T033747
CREATED:20191017T190022Z
LAST-MODIFIED:20191017T071904Z
UID:4353-1584126000-1584136800@kingscliffbeachhotel.com.au
SUMMARY:Conrad Sewell
DESCRIPTION:Is Condrad Sewell who you’re lovin’ in the music scene? Better see him at the Kingy then!  \nConrad and special guests take to the stage from 7pm on Friday 13th March.  \nTICKETS ON SALE: MON 21 OCT @ 9AM AEDT \n  \nBy 2019\, Australia-raised and Los Angeles-based ARIA Award-winning\, platinum-selling singer and songwriter Conrad Sewell had ascended to international renown. He garnered the coveted “Song of the Year” honor at the 2015 ARIA Awards for his breakout solo single “​Start Again.”​ Next up the hit “​ Hold Me Up”​ clocked over 53 million Spotify streams and preceded his debut EP\, ​All I Know​.  \n  \nBetween touring with Ed Sheeran\, Maroon 5\, and Kygo\, he earned praise from ​Entertainment Weekly​\, ​Teen Vogue​\, ​Vice​\, NBC​\, and ​Nylon ​who proclaimed him to be ​“Australia’s next great pop export.​ ​” S​imultaneously\, his voice carried to nearly every corner of the globe on Kygo’s ​“Firestone\,”​ reaching RIAA platinum status\, generating over 1 billion cumulative streams\, and entertaining audiences everywhere from ​Coachella ​to Madison Square Garden.  \n  \nHe joined forces with the late Avicii for the hit ​“Taste the Feeling”​ in addition to bringing “Sex\, Love & Water” as a worldwide magical hit for Armin van Buuren. However\, listeners truly get to know Conrad with the releases – “​Come Clean\,” “Changing\,” & the platinum hit “Healing Hands” ​- all featured on his debut studio album\, ​‘​LIFE.’​ ​‘LIFE\,’​ ​debuted at number one on the ARIA charts with Conrad holding nothing back\, he confesses mistakes and tells his uncut story over minimal production driven by his bold\, big\, and bluesy wail.  \nConrad Sewell’s Big World Tour is presented by HIT Network! \n
URL:http://kingscliffbeachhotel.com.au/whats-on/conrad-sewell/
LOCATION:102 Marine Parade\, Kingscliff\, NSW\, 2487\, Australia
GEO:-28.2555376;153.5760066
X-APPLE-STRUCTURED-LOCATION;VALUE=URI;X-ADDRESS=102 Marine Parade Kingscliff NSW 2487 Australia;X-APPLE-RADIUS=500;X-TITLE=102 Marine Parade:geo:153.5760066,-28.2555376
ATTACH;FMTTYPE=image/jpeg:http://kingscliffbeachhotel.com.au/wp-content/uploads/2019/10/Conrad_Sewell.jpg
END:VEVENT
END:VCALENDAR