BEGIN:VCALENDAR
VERSION:2.0
PRODID:-//Kingscliff Beach Hotel - ECPv4.6//NONSGML v1.0//EN
CALSCALE:GREGORIAN
METHOD:PUBLISH
X-WR-CALNAME:Kingscliff Beach Hotel
X-ORIGINAL-URL:http://kingscliffbeachhotel.com.au
X-WR-CALDESC:Events for Kingscliff Beach Hotel
BEGIN:VEVENT
DTSTART;TZID=UTC+11:20200229T190000
DTEND;TZID=UTC+11:20200229T220000
DTSTAMP:20200301T033710
CREATED:20200120T010126Z
LAST-MODIFIED:20200120T010126Z
UID:4478-1583002800-1583013600@kingscliffbeachhotel.com.au
SUMMARY:Backbeat | Free Show
DESCRIPTION:Don’t take a back seat when Backbeat comes to the Kingy! \nYou’ll want to be up amongst the action\, with hits from the late fifties through to the present day sounding throughout the Beer Garden thanks to this talented cover band. \nYou can see them live from 7pm on Saturday\, February 29! \n
URL:http://kingscliffbeachhotel.com.au/whats-on/backbeat-free-show/
LOCATION:102 Marine Parade\, Kingscliff\, NSW\, 2487\, Australia
GEO:-28.2555376;153.5760066
X-APPLE-STRUCTURED-LOCATION;VALUE=URI;X-ADDRESS=102 Marine Parade Kingscliff NSW 2487 Australia;X-APPLE-RADIUS=500;X-TITLE=102 Marine Parade:geo:153.5760066,-28.2555376
ATTACH;FMTTYPE=image/jpeg:http://kingscliffbeachhotel.com.au/wp-content/uploads/2020/01/Backbeat.jpg
END:VEVENT
END:VCALENDAR